BEGIN:VCALENDAR
VERSION:2.0
CALSCALE:GREGORIAN
PRODID:-//Diputació de Barcelona//DibaCMS//EN
BEGIN:VEVENT
UID:23782
DTSTAMP:20260422T111342
DTSTART:20111218T110000
DTEND:20111218T140000
SUMMARY:Jocs d'aigua solidaris i tobogan inflable
LOCATION:
METHOD:PUBLISH
X-WR-CALNAME:e-seu@ajpiera.cat
X-WR-TIMEZONE:Europe/Madrid
DESCRIPTION:Jocs d'aigua solidaris i tobogan inflable
URI:https://www.viladepiera.cat/actualitat/agenda/jocs-daigua-solidaris-i-tobogan-inflable.html
CLASS:PUBLIC
END:VEVENT
END:VCALENDAR
