BEGIN:VCALENDAR
VERSION:2.0
CALSCALE:GREGORIAN
PRODID:-//Diputació de Barcelona//DibaCMS//EN
BEGIN:VEVENT
UID:23783
DTSTAMP:20260421T110341
DTSTART:20130601T220000
DTEND:20130601T000000
SUMMARY:Saló de ball
LOCATION:
METHOD:PUBLISH
X-WR-CALNAME:e-seu@ajpiera.cat
X-WR-TIMEZONE:Europe/Madrid
DESCRIPTION:Saló de ball
URI:https://www.viladepiera.cat/actualitat/agenda/salo-de-ball.html
CLASS:PUBLIC
END:VEVENT
END:VCALENDAR
