BEGIN:VCALENDAR
VERSION:2.0
CALSCALE:GREGORIAN
PRODID:-//Diputació de Barcelona//DibaCMS//EN
BEGIN:VEVENT
UID:23785
DTSTAMP:20260422T214003
DTSTART:20111218T180000
DTEND:20111218T000000
SUMMARY:Concert de folk i gospel
LOCATION:
METHOD:PUBLISH
X-WR-CALNAME:e-seu@ajpiera.cat
X-WR-TIMEZONE:Europe/Madrid
DESCRIPTION:Concert de folk i gospel
URI:https://www.viladepiera.cat/actualitat/agenda/concert-de-folk-i-gospel.html
CLASS:PUBLIC
END:VEVENT
END:VCALENDAR
