BEGIN:VCALENDAR
VERSION:2.0
CALSCALE:GREGORIAN
PRODID:-//Diputació de Barcelona//DibaCMS//EN
BEGIN:VEVENT
UID:23791
DTSTAMP:20260422T135816
DTSTART:20111218T120000
DTEND:20111218T000000
SUMMARY:El Patge Faruk al Bedorc
LOCATION:
METHOD:PUBLISH
X-WR-CALNAME:e-seu@ajpiera.cat
X-WR-TIMEZONE:Europe/Madrid
DESCRIPTION:El Patge Faruk al Bedorc
URI:https://www.viladepiera.cat/actualitat/agenda/23791-el-patge-faruk-al-bedorc.html
CLASS:PUBLIC
END:VEVENT
END:VCALENDAR
