BEGIN:VCALENDAR
VERSION:2.0
CALSCALE:GREGORIAN
PRODID:-//Diputació de Barcelona//DibaCMS//EN
BEGIN:VEVENT
UID:23793
DTSTAMP:20260422T135100
DTSTART:20111218T110000
DTEND:20111218T000000
SUMMARY:Fira d'intercanvi
LOCATION:
METHOD:PUBLISH
X-WR-CALNAME:e-seu@ajpiera.cat
X-WR-TIMEZONE:Europe/Madrid
DESCRIPTION:Fira d'intercanvi
URI:https://www.viladepiera.cat/actualitat/agenda/23793-fira-dintercanvi.html
CLASS:PUBLIC
END:VEVENT
END:VCALENDAR
