BEGIN:VCALENDAR
VERSION:2.0
CALSCALE:GREGORIAN
PRODID:-//Diputació de Barcelona//DibaCMS//EN
BEGIN:VEVENT
UID:23799
DTSTAMP:20260423T000506
DTSTART:20111221T183000
DTEND:20111221T000000
SUMMARY:Bingo pre-Nadal
LOCATION:
METHOD:PUBLISH
X-WR-CALNAME:e-seu@ajpiera.cat
X-WR-TIMEZONE:Europe/Madrid
DESCRIPTION:Bingo pre-Nadal
URI:https://www.viladepiera.cat/actualitat/agenda/bingo-pre-nadal.html
CLASS:PUBLIC
END:VEVENT
END:VCALENDAR
