BEGIN:VCALENDAR
VERSION:2.0
CALSCALE:GREGORIAN
PRODID:-//Diputació de Barcelona//DibaCMS//EN
BEGIN:VEVENT
UID:23801
DTSTAMP:20260422T225405
DTSTART:20111222T183000
DTEND:20111222T000000
SUMMARY:Ball-berenar pre-Nadal
LOCATION:
METHOD:PUBLISH
X-WR-CALNAME:e-seu@ajpiera.cat
X-WR-TIMEZONE:Europe/Madrid
DESCRIPTION:Ball-berenar pre-Nadal
URI:https://www.viladepiera.cat/actualitat/agenda/ball-berenar-pre-nadal.html
CLASS:PUBLIC
END:VEVENT
END:VCALENDAR
