BEGIN:VCALENDAR
VERSION:2.0
CALSCALE:GREGORIAN
PRODID:-//Diputació de Barcelona//DibaCMS//EN
BEGIN:VEVENT
UID:23807
DTSTAMP:20260423T061552
DTSTART:20111224T110000
DTEND:20111224T000000
SUMMARY:Recital de poemes
LOCATION:
METHOD:PUBLISH
X-WR-CALNAME:e-seu@ajpiera.cat
X-WR-TIMEZONE:Europe/Madrid
DESCRIPTION:Recital de poemes
URI:https://www.viladepiera.cat/actualitat/agenda/recital-de-poemes.html
CLASS:PUBLIC
END:VEVENT
END:VCALENDAR
