BEGIN:VCALENDAR
VERSION:2.0
CALSCALE:GREGORIAN
PRODID:-//Diputació de Barcelona//DibaCMS//EN
BEGIN:VEVENT
UID:23810
DTSTAMP:20260422T135035
DTSTART:20111224T180000
DTEND:20111224T000000
SUMMARY:Caga tió
LOCATION:
METHOD:PUBLISH
X-WR-CALNAME:e-seu@ajpiera.cat
X-WR-TIMEZONE:Europe/Madrid
DESCRIPTION:Caga tió
URI:https://www.viladepiera.cat/actualitat/agenda/23810-caga-tio.html
CLASS:PUBLIC
END:VEVENT
END:VCALENDAR
