BEGIN:VCALENDAR
VERSION:2.0
CALSCALE:GREGORIAN
PRODID:-//Diputació de Barcelona//DibaCMS//EN
BEGIN:VEVENT
UID:23812
DTSTAMP:20260423T024710
DTSTART:20111224T000000
DTEND:20111224T000000
SUMMARY:Misses del gall
LOCATION:
METHOD:PUBLISH
X-WR-CALNAME:e-seu@ajpiera.cat
X-WR-TIMEZONE:Europe/Madrid
DESCRIPTION:Misses del gall
URI:https://www.viladepiera.cat/actualitat/agenda/23812-misses-del-gall.html
CLASS:PUBLIC
END:VEVENT
END:VCALENDAR
