BEGIN:VCALENDAR
VERSION:2.0
CALSCALE:GREGORIAN
PRODID:-//Diputació de Barcelona//DibaCMS//EN
BEGIN:VEVENT
UID:23813
DTSTAMP:20260421T212707
DTSTART:20130613T173000
DTEND:20130613T000000
SUMMARY:Bon estiu, Rusqui!
LOCATION:
METHOD:PUBLISH
X-WR-CALNAME:e-seu@ajpiera.cat
X-WR-TIMEZONE:Europe/Madrid
DESCRIPTION:Bon estiu, Rusqui!
URI:https://www.viladepiera.cat/actualitat/agenda/bon-estiu-rusqui.html
CLASS:PUBLIC
END:VEVENT
END:VCALENDAR
