BEGIN:VCALENDAR
VERSION:2.0
CALSCALE:GREGORIAN
PRODID:-//Diputació de Barcelona//DibaCMS//EN
BEGIN:VEVENT
UID:23818
DTSTAMP:20260422T135735
DTSTART:20111225T180000
DTEND:20111225T210000
SUMMARY:XXII Representació del Pessebre Vivent
LOCATION:
METHOD:PUBLISH
X-WR-CALNAME:e-seu@ajpiera.cat
X-WR-TIMEZONE:Europe/Madrid
DESCRIPTION:XXII Representació del Pessebre Vivent
URI:https://www.viladepiera.cat/actualitat/agenda/xxii-representacio-del-pessebre-vivent.html
CLASS:PUBLIC
END:VEVENT
END:VCALENDAR
