BEGIN:VCALENDAR
VERSION:2.0
CALSCALE:GREGORIAN
PRODID:-//Diputació de Barcelona//DibaCMS//EN
BEGIN:VEVENT
UID:23824
DTSTAMP:20260422T124402
DTSTART:20111226T120000
DTEND:20111226T000000
SUMMARY:Recollida de cartes per als Reis
LOCATION:
METHOD:PUBLISH
X-WR-CALNAME:e-seu@ajpiera.cat
X-WR-TIMEZONE:Europe/Madrid
DESCRIPTION:Recollida de cartes per als Reis
URI:https://www.viladepiera.cat/actualitat/agenda/recollida-de-cartes-per-als-reis.html
CLASS:PUBLIC
END:VEVENT
END:VCALENDAR
