BEGIN:VCALENDAR
VERSION:2.0
CALSCALE:GREGORIAN
PRODID:-//Diputació de Barcelona//DibaCMS//EN
BEGIN:VEVENT
UID:23827
DTSTAMP:20260422T110457
DTSTART:20111226T123000
DTEND:20111226T000000
SUMMARY:Ballada de sardanes
LOCATION:
METHOD:PUBLISH
X-WR-CALNAME:e-seu@ajpiera.cat
X-WR-TIMEZONE:Europe/Madrid
DESCRIPTION:Ballada de sardanes
URI:https://www.viladepiera.cat/actualitat/agenda/23827-ballada-de-sardanes.html
CLASS:PUBLIC
END:VEVENT
END:VCALENDAR
