BEGIN:VCALENDAR
VERSION:2.0
CALSCALE:GREGORIAN
PRODID:-//Diputació de Barcelona//DibaCMS//EN
BEGIN:VEVENT
UID:23829
DTSTAMP:20260422T135802
DTSTART:20111226T190000
DTEND:20111226T000000
SUMMARY:Concert de Sant Esteve
LOCATION:
METHOD:PUBLISH
X-WR-CALNAME:e-seu@ajpiera.cat
X-WR-TIMEZONE:Europe/Madrid
DESCRIPTION:Concert de Sant Esteve
URI:https://www.viladepiera.cat/actualitat/agenda/23829-concert-de-sant-esteve.html
CLASS:PUBLIC
END:VEVENT
END:VCALENDAR
