BEGIN:VCALENDAR
VERSION:2.0
CALSCALE:GREGORIAN
PRODID:-//Diputació de Barcelona//DibaCMS//EN
BEGIN:VEVENT
UID:23832
DTSTAMP:20260422T213841
DTSTART:20111227T170000
DTEND:20111229T000000
SUMMARY:Cinema infantil
LOCATION:
METHOD:PUBLISH
X-WR-CALNAME:e-seu@ajpiera.cat
X-WR-TIMEZONE:Europe/Madrid
DESCRIPTION:Cinema infantil
URI:https://www.viladepiera.cat/actualitat/agenda/23832-cinema-infantil.html
CLASS:PUBLIC
END:VEVENT
END:VCALENDAR
