BEGIN:VCALENDAR
VERSION:2.0
CALSCALE:GREGORIAN
PRODID:-//Diputació de Barcelona//DibaCMS//EN
BEGIN:VEVENT
UID:23835
DTSTAMP:20260422T140318
DTSTART:20111227T090000
DTEND:20111229T200000
SUMMARY:IX Torneig de futbol sala 
LOCATION:
METHOD:PUBLISH
X-WR-CALNAME:e-seu@ajpiera.cat
X-WR-TIMEZONE:Europe/Madrid
DESCRIPTION:IX Torneig de futbol sala 
URI:https://www.viladepiera.cat/actualitat/agenda/ix-torneig-de-futbol-sala-.html
CLASS:PUBLIC
END:VEVENT
END:VCALENDAR
