BEGIN:VCALENDAR
VERSION:2.0
CALSCALE:GREGORIAN
PRODID:-//Diputació de Barcelona//DibaCMS//EN
BEGIN:VEVENT
UID:23838
DTSTAMP:20260423T034957
DTSTART:20111227T173000
DTEND:20111227T000000
SUMMARY:Berenar multicultural
LOCATION:
METHOD:PUBLISH
X-WR-CALNAME:e-seu@ajpiera.cat
X-WR-TIMEZONE:Europe/Madrid
DESCRIPTION:Berenar multicultural
URI:https://www.viladepiera.cat/actualitat/agenda/23838-berenar-multicultural.html
CLASS:PUBLIC
END:VEVENT
END:VCALENDAR
