BEGIN:VCALENDAR
VERSION:2.0
CALSCALE:GREGORIAN
PRODID:-//Diputació de Barcelona//DibaCMS//EN
BEGIN:VEVENT
UID:23840
DTSTAMP:20260422T135019
DTSTART:20111228T210000
DTEND:20111228T000000
SUMMARY:Ple Extraordinari
LOCATION:
METHOD:PUBLISH
X-WR-CALNAME:e-seu@ajpiera.cat
X-WR-TIMEZONE:Europe/Madrid
DESCRIPTION:Ple Extraordinari
URI:https://www.viladepiera.cat/actualitat/agenda/23840-ple-extraordinari.html
CLASS:PUBLIC
END:VEVENT
END:VCALENDAR
