BEGIN:VCALENDAR
VERSION:2.0
CALSCALE:GREGORIAN
PRODID:-//Diputació de Barcelona//DibaCMS//EN
BEGIN:VEVENT
UID:23843
DTSTAMP:20260422T123725
DTSTART:20111230T110000
DTEND:20111230T200000
SUMMARY:XV Saló de la Infància i de la Joventut
LOCATION:
METHOD:PUBLISH
X-WR-CALNAME:e-seu@ajpiera.cat
X-WR-TIMEZONE:Europe/Madrid
DESCRIPTION:XV Saló de la Infància i de la Joventut
URI:https://www.viladepiera.cat/actualitat/agenda/xv-salo-de-la-infancia-i-de-la-joventut.html
CLASS:PUBLIC
END:VEVENT
END:VCALENDAR
