BEGIN:VCALENDAR
VERSION:2.0
CALSCALE:GREGORIAN
PRODID:-//Diputació de Barcelona//DibaCMS//EN
BEGIN:VEVENT
UID:23848
DTSTAMP:20260421T181124
DTSTART:20130706T220000
DTEND:20130706T000000
SUMMARY:Festival de patinatge artístic
LOCATION:
METHOD:PUBLISH
X-WR-CALNAME:e-seu@ajpiera.cat
X-WR-TIMEZONE:Europe/Madrid
DESCRIPTION:Festival de patinatge artístic
URI:https://www.viladepiera.cat/actualitat/agenda/23848-festival-de-patinatge-artistic.html
CLASS:PUBLIC
END:VEVENT
END:VCALENDAR
