BEGIN:VCALENDAR
VERSION:2.0
CALSCALE:GREGORIAN
PRODID:-//Diputació de Barcelona//DibaCMS//EN
BEGIN:VEVENT
UID:23849
DTSTAMP:20260423T104238
DTSTART:20111231T000500
DTEND:20111231T000000
SUMMARY:Festa de Cap d'Any
LOCATION:
METHOD:PUBLISH
X-WR-CALNAME:e-seu@ajpiera.cat
X-WR-TIMEZONE:Europe/Madrid
DESCRIPTION:Festa de Cap d'Any
URI:https://www.viladepiera.cat/actualitat/agenda/festa-de-cap-dany.html
CLASS:PUBLIC
END:VEVENT
END:VCALENDAR
