BEGIN:VCALENDAR
VERSION:2.0
CALSCALE:GREGORIAN
PRODID:-//Diputació de Barcelona//DibaCMS//EN
BEGIN:VEVENT
UID:23854
DTSTAMP:20260423T062128
DTSTART:20120101T000000
DTEND:20120101T000000
SUMMARY:El patge reial als barris
LOCATION:
METHOD:PUBLISH
X-WR-CALNAME:e-seu@ajpiera.cat
X-WR-TIMEZONE:Europe/Madrid
DESCRIPTION:El patge reial als barris

URI:https://www.viladepiera.cat/actualitat/agenda/el-patge-reial-als-barris.html
CLASS:PUBLIC
END:VEVENT
END:VCALENDAR
