BEGIN:VCALENDAR
VERSION:2.0
CALSCALE:GREGORIAN
PRODID:-//Diputació de Barcelona//DibaCMS//EN
BEGIN:VEVENT
UID:23856
DTSTAMP:20260422T161735
DTSTART:20120101T180000
DTEND:20120101T000000
SUMMARY:Concert d'Any Nou
LOCATION:
METHOD:PUBLISH
X-WR-CALNAME:e-seu@ajpiera.cat
X-WR-TIMEZONE:Europe/Madrid
DESCRIPTION:Concert d'Any Nou
URI:https://www.viladepiera.cat/actualitat/agenda/23856-concert-dany-nou.html
CLASS:PUBLIC
END:VEVENT
END:VCALENDAR
