BEGIN:VCALENDAR
VERSION:2.0
CALSCALE:GREGORIAN
PRODID:-//Diputació de Barcelona//DibaCMS//EN
BEGIN:VEVENT
UID:23859
DTSTAMP:20260422T133129
DTSTART:20120102T100000
DTEND:20120105T000000
SUMMARY:Stage de patinatge
LOCATION:
METHOD:PUBLISH
X-WR-CALNAME:e-seu@ajpiera.cat
X-WR-TIMEZONE:Europe/Madrid
DESCRIPTION:Stage de patinatge

URI:https://www.viladepiera.cat/actualitat/agenda/stage-de-patinatge.html
CLASS:PUBLIC
END:VEVENT
END:VCALENDAR
