BEGIN:VCALENDAR
VERSION:2.0
CALSCALE:GREGORIAN
PRODID:-//Diputació de Barcelona//DibaCMS//EN
BEGIN:VEVENT
UID:23865
DTSTAMP:20260423T011549
DTSTART:20120102T000000
DTEND:20120102T000000
SUMMARY:Inici d'exposició: Viure ecològicament
LOCATION:
METHOD:PUBLISH
X-WR-CALNAME:e-seu@ajpiera.cat
X-WR-TIMEZONE:Europe/Madrid
DESCRIPTION:Inici d'exposició: Viure ecològicament
URI:https://www.viladepiera.cat/actualitat/agenda/inici-dexposicio-viure-ecologicament.html
CLASS:PUBLIC
END:VEVENT
END:VCALENDAR
