BEGIN:VCALENDAR
VERSION:2.0
CALSCALE:GREGORIAN
PRODID:-//Diputació de Barcelona//DibaCMS//EN
BEGIN:VEVENT
UID:23875
DTSTAMP:20260422T135613
DTSTART:20120112T180000
DTEND:20120112T000000
SUMMARY:Tarda de cine: Cómo entrenar a tu dragón
LOCATION:
METHOD:PUBLISH
X-WR-CALNAME:e-seu@ajpiera.cat
X-WR-TIMEZONE:Europe/Madrid
DESCRIPTION:Tarda de cine: Cómo entrenar a tu dragón
URI:https://www.viladepiera.cat/actualitat/agenda/tarda-de-cine-como-entrenar-a-tu-dragon.html
CLASS:PUBLIC
END:VEVENT
END:VCALENDAR
