BEGIN:VCALENDAR
VERSION:2.0
CALSCALE:GREGORIAN
PRODID:-//Diputació de Barcelona//DibaCMS//EN
BEGIN:VEVENT
UID:23878
DTSTAMP:20260422T123648
DTSTART:20120113T190000
DTEND:20120113T000000
SUMMARY:Presentació Assemblea Nacional Anoia
LOCATION:
METHOD:PUBLISH
X-WR-CALNAME:e-seu@ajpiera.cat
X-WR-TIMEZONE:Europe/Madrid
DESCRIPTION:Presentació Assemblea Nacional Anoia
URI:https://www.viladepiera.cat/actualitat/agenda/presentacio-assemblea-nacional-anoia.html
CLASS:PUBLIC
END:VEVENT
END:VCALENDAR
