BEGIN:VCALENDAR
VERSION:2.0
CALSCALE:GREGORIAN
PRODID:-//Diputació de Barcelona//DibaCMS//EN
BEGIN:VEVENT
UID:23880
DTSTAMP:20260423T011800
DTSTART:20120113T190000
DTEND:20120113T000000
SUMMARY:Presentació: El ritme a l'edat d'or
LOCATION:
METHOD:PUBLISH
X-WR-CALNAME:e-seu@ajpiera.cat
X-WR-TIMEZONE:Europe/Madrid
DESCRIPTION:Presentació: El ritme a l'edat d'or
URI:https://www.viladepiera.cat/actualitat/agenda/presentacio-el-ritme-a-ledat-dor.html
CLASS:PUBLIC
END:VEVENT
END:VCALENDAR
