BEGIN:VCALENDAR
VERSION:2.0
CALSCALE:GREGORIAN
PRODID:-//Diputació de Barcelona//DibaCMS//EN
BEGIN:VEVENT
UID:23884
DTSTAMP:20260421T105854
DTSTART:20130720T000000
DTEND:20130721T000000
SUMMARY:V Reunió Motera a Can Bonastre
LOCATION:
METHOD:PUBLISH
X-WR-CALNAME:e-seu@ajpiera.cat
X-WR-TIMEZONE:Europe/Madrid
DESCRIPTION:V Reunió Motera a Can Bonastre

URI:https://www.viladepiera.cat/actualitat/agenda/v-reunio-motera-a-can-bonastre.html
CLASS:PUBLIC
END:VEVENT
END:VCALENDAR
