BEGIN:VCALENDAR
VERSION:2.0
CALSCALE:GREGORIAN
PRODID:-//Diputació de Barcelona//DibaCMS//EN
BEGIN:VEVENT
UID:23888
DTSTAMP:20260422T151156
DTSTART:20120117T200000
DTEND:20120117T000000
SUMMARY:Inauguració d'exposició: Pintures i dibuixos
LOCATION:
METHOD:PUBLISH
X-WR-CALNAME:e-seu@ajpiera.cat
X-WR-TIMEZONE:Europe/Madrid
DESCRIPTION:Inauguració d'exposició: Pintures i dibuixos
URI:https://www.viladepiera.cat/actualitat/agenda/inauguracio-dexposicio-pintures-i-dibuixos.html
CLASS:PUBLIC
END:VEVENT
END:VCALENDAR
