BEGIN:VCALENDAR
VERSION:2.0
CALSCALE:GREGORIAN
PRODID:-//Diputació de Barcelona//DibaCMS//EN
BEGIN:VEVENT
UID:23889
DTSTAMP:20260420T115219
DTSTART:20130721T120000
DTEND:20130721T140000
SUMMARY:Presentació oficial Moto Club Piera Scan Team
LOCATION:
METHOD:PUBLISH
X-WR-CALNAME:e-seu@ajpiera.cat
X-WR-TIMEZONE:Europe/Madrid
DESCRIPTION:Presentació oficial Moto Club Piera Scan Team
URI:https://www.viladepiera.cat/actualitat/agenda/presentacio-oficial-moto-club-piera-scan-team.html
CLASS:PUBLIC
END:VEVENT
END:VCALENDAR
