BEGIN:VCALENDAR
VERSION:2.0
CALSCALE:GREGORIAN
PRODID:-//Diputació de Barcelona//DibaCMS//EN
BEGIN:VEVENT
UID:23891
DTSTAMP:20260422T140211
DTSTART:20120118T180000
DTEND:20120118T000000
SUMMARY:Taller infantil: Juguem amb paper
LOCATION:
METHOD:PUBLISH
X-WR-CALNAME:e-seu@ajpiera.cat
X-WR-TIMEZONE:Europe/Madrid
DESCRIPTION:Taller infantil: Juguem amb paper
URI:https://www.viladepiera.cat/actualitat/agenda/taller-infantil-juguem-amb-paper.html
CLASS:PUBLIC
END:VEVENT
END:VCALENDAR
