BEGIN:VCALENDAR
VERSION:2.0
CALSCALE:GREGORIAN
PRODID:-//Diputació de Barcelona//DibaCMS//EN
BEGIN:VEVENT
UID:23896
DTSTAMP:20260422T122635
DTSTART:20120119T203000
DTEND:20120119T203000
SUMMARY:Reunió informativa Carnaval 2012
LOCATION:
METHOD:PUBLISH
X-WR-CALNAME:e-seu@ajpiera.cat
X-WR-TIMEZONE:Europe/Madrid
DESCRIPTION:Reunió informativa Carnaval 2012

URI:https://www.viladepiera.cat/actualitat/agenda/reunio-informativa-carnaval-2012.html
CLASS:PUBLIC
END:VEVENT
END:VCALENDAR
