BEGIN:VCALENDAR
VERSION:2.0
CALSCALE:GREGORIAN
PRODID:-//Diputació de Barcelona//DibaCMS//EN
BEGIN:VEVENT
UID:23902
DTSTAMP:20260423T022411
DTSTART:20120120T190000
DTEND:20120120T000000
SUMMARY:Conferència: Què diem amb el cos
LOCATION:
METHOD:PUBLISH
X-WR-CALNAME:e-seu@ajpiera.cat
X-WR-TIMEZONE:Europe/Madrid
DESCRIPTION:Conferència: Què diem amb el cos
URI:https://www.viladepiera.cat/actualitat/agenda/conferencia-que-diem-amb-el-cos.html
CLASS:PUBLIC
END:VEVENT
END:VCALENDAR
