BEGIN:VCALENDAR
VERSION:2.0
CALSCALE:GREGORIAN
PRODID:-//Diputació de Barcelona//DibaCMS//EN
BEGIN:VEVENT
UID:23905
DTSTAMP:20260422T184855
DTSTART:20120120T233000
DTEND:20120120T000000
SUMMARY:Música en viu al nou Foment
LOCATION:
METHOD:PUBLISH
X-WR-CALNAME:e-seu@ajpiera.cat
X-WR-TIMEZONE:Europe/Madrid
DESCRIPTION:Música en viu al nou Foment
URI:https://www.viladepiera.cat/actualitat/agenda/musica-en-viu-al-nou-foment.html
CLASS:PUBLIC
END:VEVENT
END:VCALENDAR
