BEGIN:VCALENDAR
VERSION:2.0
CALSCALE:GREGORIAN
PRODID:-//Diputació de Barcelona//DibaCMS//EN
BEGIN:VEVENT
UID:23907
DTSTAMP:20260422T105523
DTSTART:20120120T000000
DTEND:20120122T000000
SUMMARY:Festa Major d’hivern al Bedorc
LOCATION:
METHOD:PUBLISH
X-WR-CALNAME:e-seu@ajpiera.cat
X-WR-TIMEZONE:Europe/Madrid
DESCRIPTION:Festa Major d’hivern al Bedorc
URI:https://www.viladepiera.cat/actualitat/agenda/23907-festa-major-dhivern-al-bedorc.html
CLASS:PUBLIC
END:VEVENT
END:VCALENDAR
