BEGIN:VCALENDAR
VERSION:2.0
CALSCALE:GREGORIAN
PRODID:-//Diputació de Barcelona//DibaCMS//EN
BEGIN:VEVENT
UID:23920
DTSTAMP:20260422T182300
DTSTART:20120126T190000
DTEND:20120126T000000
SUMMARY:Xerrada: Capitalisme i mecanismes de control social
LOCATION:
METHOD:PUBLISH
X-WR-CALNAME:e-seu@ajpiera.cat
X-WR-TIMEZONE:Europe/Madrid
DESCRIPTION:Xerrada: Capitalisme i mecanismes de control social
URI:https://www.viladepiera.cat/actualitat/agenda/xerrada-capitalisme-i-mecanismes-de-control-social.html
CLASS:PUBLIC
END:VEVENT
END:VCALENDAR
