BEGIN:VCALENDAR
VERSION:2.0
CALSCALE:GREGORIAN
PRODID:-//Diputació de Barcelona//DibaCMS//EN
BEGIN:VEVENT
UID:23933
DTSTAMP:20260423T144733
DTSTART:20120129T100000
DTEND:20120129T000000
SUMMARY:Festa dels Tres Tombs
LOCATION:
METHOD:PUBLISH
X-WR-CALNAME:e-seu@ajpiera.cat
X-WR-TIMEZONE:Europe/Madrid
DESCRIPTION:Festa dels Tres Tombs
URI:https://www.viladepiera.cat/actualitat/agenda/23933-festa-dels-tres-tombs.html
CLASS:PUBLIC
END:VEVENT
END:VCALENDAR
