BEGIN:VCALENDAR
VERSION:2.0
CALSCALE:GREGORIAN
PRODID:-//Diputació de Barcelona//DibaCMS//EN
BEGIN:VEVENT
UID:23935
DTSTAMP:20260421T121300
DTSTART:20130824T090000
DTEND:20130824T000000
SUMMARY:Matinal de ioga
LOCATION:
METHOD:PUBLISH
X-WR-CALNAME:e-seu@ajpiera.cat
X-WR-TIMEZONE:Europe/Madrid
DESCRIPTION:Matinal de ioga
URI:https://www.viladepiera.cat/actualitat/agenda/matinal-de-ioga.html
CLASS:PUBLIC
END:VEVENT
END:VCALENDAR
