BEGIN:VCALENDAR
VERSION:2.0
CALSCALE:GREGORIAN
PRODID:-//Diputació de Barcelona//DibaCMS//EN
BEGIN:VEVENT
UID:23941
DTSTAMP:20260422T125729
DTSTART:20120131T153000
DTEND:20120131T000000
SUMMARY:Taller: Créixer en família
LOCATION:
METHOD:PUBLISH
X-WR-CALNAME:e-seu@ajpiera.cat
X-WR-TIMEZONE:Europe/Madrid
DESCRIPTION:Taller: Créixer en família
URI:https://www.viladepiera.cat/actualitat/agenda/taller-creixer-en-familia.html
CLASS:PUBLIC
END:VEVENT
END:VCALENDAR
