BEGIN:VCALENDAR
VERSION:2.0
CALSCALE:GREGORIAN
PRODID:-//Diputació de Barcelona//DibaCMS//EN
BEGIN:VEVENT
UID:23947
DTSTAMP:20260421T145825
DTSTART:20130831T213000
DTEND:20130831T000000
SUMMARY:Sopar a la fresca del Portell
LOCATION:
METHOD:PUBLISH
X-WR-CALNAME:e-seu@ajpiera.cat
X-WR-TIMEZONE:Europe/Madrid
DESCRIPTION:Sopar a la fresca del Portell
URI:https://www.viladepiera.cat/actualitat/agenda/sopar-a-la-fresca-del-portell.html
CLASS:PUBLIC
END:VEVENT
END:VCALENDAR
