BEGIN:VCALENDAR
VERSION:2.0
CALSCALE:GREGORIAN
PRODID:-//Diputació de Barcelona//DibaCMS//EN
BEGIN:VEVENT
UID:23948
DTSTAMP:20260423T074650
DTSTART:20120202T184500
DTEND:20120202T000000
SUMMARY:Moviment, ritme i expressió corporal
LOCATION:
METHOD:PUBLISH
X-WR-CALNAME:e-seu@ajpiera.cat
X-WR-TIMEZONE:Europe/Madrid
DESCRIPTION:Moviment, ritme i expressió corporal
URI:https://www.viladepiera.cat/actualitat/agenda/moviment-ritme-i-expressio-corporal.html
CLASS:PUBLIC
END:VEVENT
END:VCALENDAR
