BEGIN:VCALENDAR
VERSION:2.0
CALSCALE:GREGORIAN
PRODID:-//Diputació de Barcelona//DibaCMS//EN
BEGIN:VEVENT
UID:23950
DTSTAMP:20260422T144322
DTSTART:20120202T070000
DTEND:20120202T170000
SUMMARY:Tall d'aigua: Can Martí
LOCATION:
METHOD:PUBLISH
X-WR-CALNAME:e-seu@ajpiera.cat
X-WR-TIMEZONE:Europe/Madrid
DESCRIPTION:Tall d'aigua: Can Martí
URI:https://www.viladepiera.cat/actualitat/agenda/23950-tall-daigua-can-marti.html
CLASS:PUBLIC
END:VEVENT
END:VCALENDAR
