BEGIN:VCALENDAR
VERSION:2.0
CALSCALE:GREGORIAN
PRODID:-//Diputació de Barcelona//DibaCMS//EN
BEGIN:VEVENT
UID:23953
DTSTAMP:20260422T133143
DTSTART:20120203T190000
DTEND:20120203T000000
SUMMARY:Inici exposició: Una mirada diferent de la transició
LOCATION:
METHOD:PUBLISH
X-WR-CALNAME:e-seu@ajpiera.cat
X-WR-TIMEZONE:Europe/Madrid
DESCRIPTION:Inici exposició: Una mirada diferent de la transició
URI:https://www.viladepiera.cat/actualitat/agenda/inici-exposicio-una-mirada-diferent-de-la-transicio.html
CLASS:PUBLIC
END:VEVENT
END:VCALENDAR
