BEGIN:VCALENDAR
VERSION:2.0
CALSCALE:GREGORIAN
PRODID:-//Diputació de Barcelona//DibaCMS//EN
BEGIN:VEVENT
UID:23954
DTSTAMP:20260421T190411
DTSTART:20130906T220000
DTEND:20130906T000000
SUMMARY:Nit de boleros
LOCATION:
METHOD:PUBLISH
X-WR-CALNAME:e-seu@ajpiera.cat
X-WR-TIMEZONE:Europe/Madrid
DESCRIPTION:Nit de boleros
URI:https://www.viladepiera.cat/actualitat/agenda/nit-de-boleros.html
CLASS:PUBLIC
END:VEVENT
END:VCALENDAR
