BEGIN:VCALENDAR
VERSION:2.0
CALSCALE:GREGORIAN
PRODID:-//Diputació de Barcelona//DibaCMS//EN
BEGIN:VEVENT
UID:23958
DTSTAMP:20260422T105554
DTSTART:20120205T173000
DTEND:20120205T000000
SUMMARY:Toni Bou al Palau Sant Jordi
LOCATION:
METHOD:PUBLISH
X-WR-CALNAME:e-seu@ajpiera.cat
X-WR-TIMEZONE:Europe/Madrid
DESCRIPTION:Toni Bou al Palau Sant Jordi
URI:https://www.viladepiera.cat/actualitat/agenda/23958-toni-bou-al-palau-sant-jordi.html
CLASS:PUBLIC
END:VEVENT
END:VCALENDAR
