BEGIN:VCALENDAR
VERSION:2.0
CALSCALE:GREGORIAN
PRODID:-//Diputació de Barcelona//DibaCMS//EN
BEGIN:VEVENT
UID:23960
DTSTAMP:20260422T144242
DTSTART:20120212T080000
DTEND:20120212T140000
SUMMARY:Mercat popular de Can Canals
LOCATION:
METHOD:PUBLISH
X-WR-CALNAME:e-seu@ajpiera.cat
X-WR-TIMEZONE:Europe/Madrid
DESCRIPTION:Mercat popular de Can Canals

URI:https://www.viladepiera.cat/actualitat/agenda/mercat-popular-de-can-canals.html
CLASS:PUBLIC
END:VEVENT
END:VCALENDAR
