BEGIN:VCALENDAR
VERSION:2.0
CALSCALE:GREGORIAN
PRODID:-//Diputació de Barcelona//DibaCMS//EN
BEGIN:VEVENT
UID:23963
DTSTAMP:20260422T083639
DTSTART:20120213T203000
DTEND:20120213T000000
SUMMARY:Reunió amb les entitats
LOCATION:
METHOD:PUBLISH
X-WR-CALNAME:e-seu@ajpiera.cat
X-WR-TIMEZONE:Europe/Madrid
DESCRIPTION:Reunió amb les entitats
URI:https://www.viladepiera.cat/actualitat/agenda/reunio-amb-les-entitats.html
CLASS:PUBLIC
END:VEVENT
END:VCALENDAR
