BEGIN:VCALENDAR
VERSION:2.0
CALSCALE:GREGORIAN
PRODID:-//Diputació de Barcelona//DibaCMS//EN
BEGIN:VEVENT
UID:23965
DTSTAMP:20260422T084235
DTSTART:20120216T173000
DTEND:20120216T000000
SUMMARY:Taller infantil: Disfressa't
LOCATION:
METHOD:PUBLISH
X-WR-CALNAME:e-seu@ajpiera.cat
X-WR-TIMEZONE:Europe/Madrid
DESCRIPTION:Taller infantil: Disfressa't
URI:https://www.viladepiera.cat/actualitat/agenda/taller-infantil-disfressat.html
CLASS:PUBLIC
END:VEVENT
END:VCALENDAR
